BEGIN:VCALENDAR
VERSION:2.0
PRODID:-//Pembina Valley - Local Immigration Partnership - ECPv6.15.13//NONSGML v1.0//EN
CALSCALE:GREGORIAN
METHOD:PUBLISH
X-WR-CALNAME:Pembina Valley - Local Immigration Partnership
X-ORIGINAL-URL:https://pvlip.ca
X-WR-CALDESC:Events for Pembina Valley - Local Immigration Partnership
REFRESH-INTERVAL;VALUE=DURATION:PT1H
X-Robots-Tag:noindex
X-PUBLISHED-TTL:PT1H
BEGIN:VTIMEZONE
TZID:America/Winnipeg
BEGIN:DAYLIGHT
TZOFFSETFROM:-0600
TZOFFSETTO:-0500
TZNAME:CDT
DTSTART:20250309T080000
END:DAYLIGHT
BEGIN:STANDARD
TZOFFSETFROM:-0500
TZOFFSETTO:-0600
TZNAME:CST
DTSTART:20251102T070000
END:STANDARD
BEGIN:DAYLIGHT
TZOFFSETFROM:-0600
TZOFFSETTO:-0500
TZNAME:CDT
DTSTART:20260308T080000
END:DAYLIGHT
BEGIN:STANDARD
TZOFFSETFROM:-0500
TZOFFSETTO:-0600
TZNAME:CST
DTSTART:20261101T070000
END:STANDARD
BEGIN:DAYLIGHT
TZOFFSETFROM:-0600
TZOFFSETTO:-0500
TZNAME:CDT
DTSTART:20270314T080000
END:DAYLIGHT
BEGIN:STANDARD
TZOFFSETFROM:-0500
TZOFFSETTO:-0600
TZNAME:CST
DTSTART:20271107T070000
END:STANDARD
END:VTIMEZONE
BEGIN:VEVENT
DTSTART;VALUE=DATE:20260213
DTEND;VALUE=DATE:20260223
DTSTAMP:20260419T232809
CREATED:20260202T170502Z
LAST-MODIFIED:20260202T172432Z
UID:6159-1770940800-1771804799@pvlip.ca
SUMMARY:Festival du Voyageur (Winnipeg)
DESCRIPTION:Embrace winter at Western Canada’s largest winter festival where you can admire giant snow sculptures\, dance and jig to lively music\, attend concerts\, enjoy French Canadian foods and meet the historical characters of Fort Gibraltar. \nFestival
URL:https://pvlip.ca/event/festival-du-voyageur/
LOCATION:Manitoba
CATEGORIES:Festivals,Local Cultural Events
ATTACH;FMTTYPE=image/jpeg:https://pvlip.ca/wp-content/uploads/2026/02/simpleview-image-upload-c-fit-w-800-h-600-crm-winnipeg-festival-du-voyageur30-ff4a81a55056a36-ff4a82cf-5056-a36a-098a82d64e447caa.t1750857853.jpg
END:VEVENT
END:VCALENDAR